BEGIN:VCALENDAR
VERSION:2.0
PRODID:-//Active Independence - ECPv6.15.17.1//NONSGML v1.0//EN
CALSCALE:GREGORIAN
METHOD:PUBLISH
X-ORIGINAL-URL:https://activeindependence.org/wp
X-WR-CALDESC:Events for Active Independence
REFRESH-INTERVAL;VALUE=DURATION:PT1H
X-Robots-Tag:noindex
X-PUBLISHED-TTL:PT1H
BEGIN:VTIMEZONE
TZID:Europe/London
BEGIN:DAYLIGHT
TZOFFSETFROM:+0000
TZOFFSETTO:+0100
TZNAME:BST
DTSTART:20240331T010000
END:DAYLIGHT
BEGIN:STANDARD
TZOFFSETFROM:+0100
TZOFFSETTO:+0000
TZNAME:GMT
DTSTART:20241027T010000
END:STANDARD
BEGIN:DAYLIGHT
TZOFFSETFROM:+0000
TZOFFSETTO:+0100
TZNAME:BST
DTSTART:20250330T010000
END:DAYLIGHT
BEGIN:STANDARD
TZOFFSETFROM:+0100
TZOFFSETTO:+0000
TZNAME:GMT
DTSTART:20251026T010000
END:STANDARD
BEGIN:DAYLIGHT
TZOFFSETFROM:+0000
TZOFFSETTO:+0100
TZNAME:BST
DTSTART:20260329T010000
END:DAYLIGHT
BEGIN:STANDARD
TZOFFSETFROM:+0100
TZOFFSETTO:+0000
TZNAME:GMT
DTSTART:20261025T010000
END:STANDARD
END:VTIMEZONE
BEGIN:VEVENT
DTSTART;TZID=Europe/London:20251104T080000
DTEND;TZID=Europe/London:20251104T170000
DTSTAMP:20260421T120356
CREATED:20250715T103746Z
LAST-MODIFIED:20250715T103746Z
UID:13583-1762243200-1762275600@activeindependence.org
SUMMARY:Creative Threads
DESCRIPTION:
URL:https://activeindependence.org/wp/event/creative-threads-28/
LOCATION:Edward Dunn Memorial Hall\, Tickhill Road\, Maltby\, South Yorkshire\, S66 7NQ\, United Kingdom
CATEGORIES:Art of Wellbeing
END:VEVENT
BEGIN:VEVENT
DTSTART;TZID=Europe/London:20251105T123000
DTEND;TZID=Europe/London:20251105T153000
DTSTAMP:20260421T120356
CREATED:20250715T100822Z
LAST-MODIFIED:20251015T151350Z
UID:13557-1762345800-1762356600@activeindependence.org
SUMMARY:Tangled Tags: Upcycled Cardboard Art
DESCRIPTION:
URL:https://activeindependence.org/wp/event/tangled-tags-upcycled-cardboard-art/
LOCATION:Brecks Community Hub\, Brecks Cres\, Rotherham\, S65 3HU\, United Kingdom
CATEGORIES:Art of Wellbeing
END:VEVENT
BEGIN:VEVENT
DTSTART;TZID=Europe/London:20251107T093000
DTEND;TZID=Europe/London:20251107T110000
DTSTAMP:20260421T120356
CREATED:20250715T103055Z
LAST-MODIFIED:20250715T103055Z
UID:13571-1762507800-1762513200@activeindependence.org
SUMMARY:Inclusive Cycling
DESCRIPTION:
URL:https://activeindependence.org/wp/event/inclusive-cycling-112/
LOCATION:Doncaster Cycling Hub\, The Dome\, Doncaster\, DN4 7PD
CATEGORIES:Art of Wellbeing
END:VEVENT
BEGIN:VEVENT
DTSTART;TZID=Europe/London:20251111T110000
DTEND;TZID=Europe/London:20251111T150000
DTSTAMP:20260421T120356
CREATED:20250715T103826Z
LAST-MODIFIED:20250715T103826Z
UID:13585-1762858800-1762873200@activeindependence.org
SUMMARY:Creative Threads
DESCRIPTION:
URL:https://activeindependence.org/wp/event/creative-threads-29/
LOCATION:Edward Dunn Memorial Hall\, Tickhill Road\, Maltby\, South Yorkshire\, S66 7NQ\, United Kingdom
CATEGORIES:Art of Wellbeing
END:VEVENT
BEGIN:VEVENT
DTSTART;TZID=Europe/London:20251112T140000
DTEND;TZID=Europe/London:20251112T170000
DTSTAMP:20260421T120356
CREATED:20250715T092645Z
LAST-MODIFIED:20250715T092645Z
UID:13500-1762956000-1762966800@activeindependence.org
SUMMARY:Yoga for All
DESCRIPTION:Details to follow
URL:https://activeindependence.org/wp/event/yoga-for-all-12/
LOCATION:Church Balk Gardens Hall\, Edenthorpe\, Doncaster\, DN3 2NT\, United Kingdom
CATEGORIES:Art of Wellbeing
END:VEVENT
BEGIN:VEVENT
DTSTART;TZID=Europe/London:20251114T080000
DTEND;TZID=Europe/London:20251114T170000
DTSTAMP:20260421T120357
CREATED:20250715T103135Z
LAST-MODIFIED:20250715T103135Z
UID:13573-1763107200-1763139600@activeindependence.org
SUMMARY:Inclusive Cycling
DESCRIPTION:
URL:https://activeindependence.org/wp/event/inclusive-cycling-113/
LOCATION:Doncaster Cycling Hub\, The Dome\, Doncaster\, DN4 7PD
CATEGORIES:Art of Wellbeing
END:VEVENT
BEGIN:VEVENT
DTSTART;TZID=Europe/London:20251118T110000
DTEND;TZID=Europe/London:20251118T150000
DTSTAMP:20260421T120357
CREATED:20250715T103909Z
LAST-MODIFIED:20250715T103909Z
UID:13587-1763463600-1763478000@activeindependence.org
SUMMARY:Creative Threads
DESCRIPTION:
URL:https://activeindependence.org/wp/event/creative-threads-30/
LOCATION:Edward Dunn Memorial Hall\, Tickhill Road\, Maltby\, South Yorkshire\, S66 7NQ\, United Kingdom
CATEGORIES:Art of Wellbeing
END:VEVENT
BEGIN:VEVENT
DTSTART;TZID=Europe/London:20251119T123000
DTEND;TZID=Europe/London:20251119T153000
DTSTAMP:20260421T120357
CREATED:20250715T100911Z
LAST-MODIFIED:20251015T151258Z
UID:13559-1763555400-1763566200@activeindependence.org
SUMMARY:Fabric & Stitch Cards: Free-Motion Fun
DESCRIPTION:
URL:https://activeindependence.org/wp/event/fabric-stitch-cards-free-motion-fun/
LOCATION:Brecks Community Hub\, Brecks Cres\, Rotherham\, S65 3HU\, United Kingdom
CATEGORIES:Art of Wellbeing
END:VEVENT
BEGIN:VEVENT
DTSTART;TZID=Europe/London:20251121T093000
DTEND;TZID=Europe/London:20251121T110000
DTSTAMP:20260421T120357
CREATED:20250715T103215Z
LAST-MODIFIED:20250715T103215Z
UID:13575-1763717400-1763722800@activeindependence.org
SUMMARY:Inclusive Cycling
DESCRIPTION:
URL:https://activeindependence.org/wp/event/inclusive-cycling-114/
LOCATION:Doncaster Cycling Hub\, The Dome\, Doncaster\, DN4 7PD
CATEGORIES:Art of Wellbeing
END:VEVENT
BEGIN:VEVENT
DTSTART;TZID=Europe/London:20251125T110000
DTEND;TZID=Europe/London:20251125T150000
DTSTAMP:20260421T120357
CREATED:20250715T104004Z
LAST-MODIFIED:20250715T104004Z
UID:13589-1764068400-1764082800@activeindependence.org
SUMMARY:Creative Threads
DESCRIPTION:
URL:https://activeindependence.org/wp/event/creative-threads-31/
LOCATION:Edward Dunn Memorial Hall\, Tickhill Road\, Maltby\, South Yorkshire\, S66 7NQ\, United Kingdom
CATEGORIES:Art of Wellbeing
END:VEVENT
BEGIN:VEVENT
DTSTART;TZID=Europe/London:20251126T140000
DTEND;TZID=Europe/London:20251126T170000
DTSTAMP:20260421T120357
CREATED:20250715T092306Z
LAST-MODIFIED:20251027T170453Z
UID:13492-1764165600-1764176400@activeindependence.org
SUMMARY:Christmas Craft: Winter Wonderland
DESCRIPTION:Join us o create your very own sparkling wooden winter village. We’ll be painting these charming pieces\, adding festive colours\, and finishing them with a beautiful dusting of ‘snow’ and glitter
URL:https://activeindependence.org/wp/event/christmas-craft/
LOCATION:Church Balk Gardens Hall\, Edenthorpe\, Doncaster\, DN3 2NT\, United Kingdom
CATEGORIES:Art of Wellbeing
END:VEVENT
BEGIN:VEVENT
DTSTART;TZID=Europe/London:20251128T093000
DTEND;TZID=Europe/London:20251128T110000
DTSTAMP:20260421T120357
CREATED:20250715T103258Z
LAST-MODIFIED:20250715T103258Z
UID:13577-1764322200-1764327600@activeindependence.org
SUMMARY:Inclusive Cycling
DESCRIPTION:
URL:https://activeindependence.org/wp/event/inclusive-cycling-115/
LOCATION:Doncaster Cycling Hub\, The Dome\, Doncaster\, DN4 7PD
CATEGORIES:Art of Wellbeing
END:VEVENT
END:VCALENDAR