BEGIN:VCALENDAR
VERSION:2.0
PRODID:-//Active Independence - ECPv6.15.17.1//NONSGML v1.0//EN
CALSCALE:GREGORIAN
METHOD:PUBLISH
X-ORIGINAL-URL:https://activeindependence.org/wp
X-WR-CALDESC:Events for Active Independence
REFRESH-INTERVAL;VALUE=DURATION:PT1H
X-Robots-Tag:noindex
X-PUBLISHED-TTL:PT1H
BEGIN:VTIMEZONE
TZID:Europe/London
BEGIN:DAYLIGHT
TZOFFSETFROM:+0000
TZOFFSETTO:+0100
TZNAME:BST
DTSTART:20240331T010000
END:DAYLIGHT
BEGIN:STANDARD
TZOFFSETFROM:+0100
TZOFFSETTO:+0000
TZNAME:GMT
DTSTART:20241027T010000
END:STANDARD
BEGIN:DAYLIGHT
TZOFFSETFROM:+0000
TZOFFSETTO:+0100
TZNAME:BST
DTSTART:20250330T010000
END:DAYLIGHT
BEGIN:STANDARD
TZOFFSETFROM:+0100
TZOFFSETTO:+0000
TZNAME:GMT
DTSTART:20251026T010000
END:STANDARD
BEGIN:DAYLIGHT
TZOFFSETFROM:+0000
TZOFFSETTO:+0100
TZNAME:BST
DTSTART:20260329T010000
END:DAYLIGHT
BEGIN:STANDARD
TZOFFSETFROM:+0100
TZOFFSETTO:+0000
TZNAME:GMT
DTSTART:20261025T010000
END:STANDARD
END:VTIMEZONE
BEGIN:VEVENT
DTSTART;TZID=Europe/London:20251126T140000
DTEND;TZID=Europe/London:20251126T170000
DTSTAMP:20260421T162516
CREATED:20250715T092306Z
LAST-MODIFIED:20251027T170453Z
UID:13492-1764165600-1764176400@activeindependence.org
SUMMARY:Christmas Craft: Winter Wonderland
DESCRIPTION:Join us o create your very own sparkling wooden winter village. We’ll be painting these charming pieces\, adding festive colours\, and finishing them with a beautiful dusting of ‘snow’ and glitter
URL:https://activeindependence.org/wp/event/christmas-craft/
LOCATION:Church Balk Gardens Hall\, Edenthorpe\, Doncaster\, DN3 2NT\, United Kingdom
CATEGORIES:Art of Wellbeing
END:VEVENT
END:VCALENDAR